Package: RCSL Version: 1.17.0 Command: /home/biocbuild/R/R/bin/R CMD build --keep-empty-dirs --no-resave-data RCSL StartedAt: 2025-10-21 02:20:52 -0000 (Tue, 21 Oct 2025) EndedAt: 2025-10-21 02:21:38 -0000 (Tue, 21 Oct 2025) EllapsedTime: 46.0 seconds RetCode: 0 Status: OK PackageFile: RCSL_1.17.0.tar.gz PackageFileSize: 1.878 MiB