Package: RCSL Version: 1.17.0 Command: /home/biocbuild/bbs-3.22-bioc/R/bin/R CMD check --install=check:RCSL.install-out.txt --library=/home/biocbuild/bbs-3.22-bioc/R/site-library --timings RCSL_1.17.0.tar.gz StartedAt: 2025-10-14 03:38:03 -0400 (Tue, 14 Oct 2025) EndedAt: 2025-10-14 03:45:12 -0400 (Tue, 14 Oct 2025) EllapsedTime: 429.5 seconds RetCode: 0 Status: OK CheckDir: RCSL.Rcheck Warnings: 0