Package: RCSL Version: 1.19.0 Command: /home/biocbuild/bbs-3.23-bioc/R/bin/R CMD check --install=check:RCSL.install-out.txt --library=/home/biocbuild/bbs-3.23-bioc/R/site-library --timings RCSL_1.19.0.tar.gz StartedAt: 2025-11-24 03:01:30 -0500 (Mon, 24 Nov 2025) EndedAt: 2025-11-24 03:08:43 -0500 (Mon, 24 Nov 2025) EllapsedTime: 432.7 seconds RetCode: 0 Status: OK CheckDir: RCSL.Rcheck Warnings: 0