Package: RCSL Version: 1.19.0 Command: /home/biocbuild/bbs-3.23-bioc/R/bin/R CMD build --keep-empty-dirs --no-resave-data RCSL StartedAt: 2025-11-20 19:31:54 -0500 (Thu, 20 Nov 2025) EndedAt: 2025-11-20 19:32:22 -0500 (Thu, 20 Nov 2025) EllapsedTime: 28.0 seconds RetCode: 0 Status: OK PackageFile: RCSL_1.19.0.tar.gz PackageFileSize: 1.952 MiB