Package: RCM Version: 1.25.1 Command: /home/biocbuild/bbs-3.22-bioc/R/bin/R CMD check --install=check:RCM.install-out.txt --library=/home/biocbuild/bbs-3.22-bioc/R/site-library --timings RCM_1.25.1.tar.gz StartedAt: 2025-10-25 03:12:18 -0400 (Sat, 25 Oct 2025) EndedAt: 2025-10-25 03:18:45 -0400 (Sat, 25 Oct 2025) EllapsedTime: 387.4 seconds RetCode: 0 Status: OK CheckDir: RCM.Rcheck Warnings: 0