Package: RCM Version: 1.27.0 Command: /home/biocbuild/bbs-3.23-bioc/R/bin/R CMD INSTALL RCM StartedAt: 2025-11-02 15:23:58 -0500 (Sun, 02 Nov 2025) EndedAt: 2025-11-02 15:24:21 -0500 (Sun, 02 Nov 2025) EllapsedTime: 23.1 seconds RetCode: 0 Status: OK