Package: RCM Version: 1.27.0 Command: /home/biocbuild/bbs-3.23-bioc/R/bin/R CMD build --keep-empty-dirs --no-resave-data RCM StartedAt: 2025-11-02 19:26:02 -0500 (Sun, 02 Nov 2025) EndedAt: 2025-11-02 19:27:45 -0500 (Sun, 02 Nov 2025) EllapsedTime: 103.1 seconds RetCode: 0 Status: OK PackageFile: RCM_1.27.0.tar.gz PackageFileSize: 4.158 MiB