Package: RCM Version: 1.25.0 Command: /Library/Frameworks/R.framework/Resources/bin/R CMD INSTALL RCM StartedAt: 2025-10-07 15:19:00 -0400 (Tue, 07 Oct 2025) EndedAt: 2025-10-07 15:19:34 -0400 (Tue, 07 Oct 2025) EllapsedTime: 34.5 seconds RetCode: 0 Status: OK