Package: RCM Version: 1.25.0 Command: /Library/Frameworks/R.framework/Resources/bin/R CMD build --keep-empty-dirs --no-resave-data RCM StartedAt: 2025-10-07 18:42:53 -0400 (Tue, 07 Oct 2025) EndedAt: 2025-10-07 18:44:22 -0400 (Tue, 07 Oct 2025) EllapsedTime: 89.5 seconds RetCode: 0 Status: OK PackageFile: RCM_1.25.0.tar.gz PackageFileSize: 4.819 MiB