Package: RCM Version: 1.25.0 Command: rm -rf RCM.buildbin-libdir && mkdir RCM.buildbin-libdir && /Users/biocbuild/BBS/utils/build-universal.sh RCM_1.25.0.tar.gz /Library/Frameworks/R.framework/Resources/bin/R RCM.buildbin-libdir StartedAt: 2025-10-07 02:28:36 -0400 (Tue, 07 Oct 2025) EndedAt: 2025-10-07 02:29:13 -0400 (Tue, 07 Oct 2025) EllapsedTime: 37.0 seconds RetCode: 0 Status: OK PackageFile: RCM_1.25.0.tgz PackageFileSize: 5.055 MiB