Package: RCM Version: 1.25.0 Command: /Library/Frameworks/R.framework/Resources/bin/R CMD INSTALL RCM StartedAt: 2025-09-21 15:08:23 -0400 (Sun, 21 Sep 2025) EndedAt: 2025-09-21 15:08:33 -0400 (Sun, 21 Sep 2025) EllapsedTime: 9.6 seconds RetCode: 0 Status: OK