Package: RCM Version: 1.25.0 Maintainer: Stijn Hawinkel MaintainerEmail: stijn.hawinkel at psb.ugent.be git_url: https://git.bioconductor.org/packages/RCM git_branch: devel git_last_commit: fdd9fe5 git_last_commit_date: 2025-04-15 11:40:10 -0400 (Tue, 15 Apr 2025)