Package: RCASPAR Version: 1.55.0 Command: /home/biocbuild/bbs-3.22-bioc/R/bin/R CMD check --install=check:RCASPAR.install-out.txt --library=/home/biocbuild/bbs-3.22-bioc/R/site-library --timings RCASPAR_1.55.0.tar.gz StartedAt: 2025-10-16 04:00:10 -0400 (Thu, 16 Oct 2025) EndedAt: 2025-10-16 04:00:30 -0400 (Thu, 16 Oct 2025) EllapsedTime: 20.1 seconds RetCode: 0 Status: OK CheckDir: RCASPAR.Rcheck Warnings: 0