Package: RCASPAR Version: 1.57.0 Command: /home/biocbuild/bbs-3.23-bioc/R/bin/R CMD INSTALL RCASPAR StartedAt: 2025-11-20 15:01:29 -0500 (Thu, 20 Nov 2025) EndedAt: 2025-11-20 15:01:37 -0500 (Thu, 20 Nov 2025) EllapsedTime: 7.8 seconds RetCode: 0 Status: OK