Package: RCASPAR Version: 1.57.0 Command: /home/biocbuild/bbs-3.23-bioc/R/bin/R CMD check --install=check:RCASPAR.install-out.txt --library=/home/biocbuild/bbs-3.23-bioc/R/site-library --timings RCASPAR_1.57.0.tar.gz StartedAt: 2025-11-22 03:03:40 -0500 (Sat, 22 Nov 2025) EndedAt: 2025-11-22 03:04:02 -0500 (Sat, 22 Nov 2025) EllapsedTime: 22.2 seconds RetCode: 0 Status: OK CheckDir: RCASPAR.Rcheck Warnings: 0