Package: RCAS Version: 1.35.0 Command: /home/biocbuild/R/R/bin/R CMD INSTALL RCAS StartedAt: 2025-10-20 20:59:13 -0000 (Mon, 20 Oct 2025) EndedAt: 2025-10-20 21:00:13 -0000 (Mon, 20 Oct 2025) EllapsedTime: 60.0 seconds RetCode: 0 Status: OK