Package: RCAS Version: 1.35.0 Command: /home/biocbuild/bbs-3.22-bioc/R/bin/R CMD check --install=check:RCAS.install-out.txt --library=/home/biocbuild/bbs-3.22-bioc/R/site-library --timings RCAS_1.35.0.tar.gz StartedAt: 2025-10-14 03:37:38 -0400 (Tue, 14 Oct 2025) EndedAt: 2025-10-14 03:49:30 -0400 (Tue, 14 Oct 2025) EllapsedTime: 712.0 seconds RetCode: 0 Status: OK CheckDir: RCAS.Rcheck Warnings: 0