Package: RCAS Version: 1.37.0 Command: /home/biocbuild/bbs-3.23-bioc/R/bin/R CMD INSTALL RCAS StartedAt: 2025-11-05 15:47:00 -0500 (Wed, 05 Nov 2025) EndedAt: 2025-11-05 15:47:48 -0500 (Wed, 05 Nov 2025) EllapsedTime: 48.1 seconds RetCode: 0 Status: OK