Package: RBioinf Version: 1.67.1 Command: /home/biocbuild/bbs-3.22-bioc/R/bin/R CMD check --install=check:RBioinf.install-out.txt --library=/home/biocbuild/bbs-3.22-bioc/R/site-library --timings RBioinf_1.67.1.tar.gz StartedAt: 2025-04-09 01:47:05 -0400 (Wed, 09 Apr 2025) EndedAt: 2025-04-09 01:47:29 -0400 (Wed, 09 Apr 2025) EllapsedTime: 24.0 seconds RetCode: 0 Status: OK CheckDir: RBioinf.Rcheck Warnings: 0