Package: RBioFormats Version: 1.9.0 Command: /home/biocbuild/R/R/bin/R CMD INSTALL RBioFormats StartedAt: 2025-09-29 20:44:31 -0000 (Mon, 29 Sep 2025) EndedAt: 2025-09-29 20:44:45 -0000 (Mon, 29 Sep 2025) EllapsedTime: 13.8 seconds RetCode: 0 Status: OK