Package: RBioFormats Version: 1.9.0 Command: /home/biocbuild/R/R/bin/R CMD build --keep-empty-dirs --no-resave-data RBioFormats StartedAt: 2025-09-30 02:30:50 -0000 (Tue, 30 Sep 2025) EndedAt: 2025-09-30 02:31:12 -0000 (Tue, 30 Sep 2025) EllapsedTime: 22.0 seconds RetCode: 0 Status: OK PackageFile: RBioFormats_1.9.0.tar.gz PackageFileSize: 388.8 KiB