Package: RBioFormats Version: 1.11.0 Command: /home/biocbuild/bbs-3.23-bioc/R/bin/R CMD INSTALL RBioFormats StartedAt: 2025-11-07 15:13:05 -0500 (Fri, 07 Nov 2025) EndedAt: 2025-11-07 15:13:14 -0500 (Fri, 07 Nov 2025) EllapsedTime: 9.0 seconds RetCode: 0 Status: OK