Package: RBM Version: 1.41.0 Command: /home/biocbuild/bbs-3.22-bioc/R/bin/R CMD INSTALL RBM StartedAt: 2025-10-03 15:02:17 -0400 (Fri, 03 Oct 2025) EndedAt: 2025-10-03 15:02:33 -0400 (Fri, 03 Oct 2025) EllapsedTime: 15.8 seconds RetCode: 0 Status: OK