Package: RBM Version: 1.43.0 Command: /home/biocbuild/bbs-3.23-bioc/R/bin/R CMD INSTALL RBM StartedAt: 2025-11-20 15:02:31 -0500 (Thu, 20 Nov 2025) EndedAt: 2025-11-20 15:02:47 -0500 (Thu, 20 Nov 2025) EllapsedTime: 15.8 seconds RetCode: 0 Status: OK