Package: RBM Version: 1.43.0 Command: /Library/Frameworks/R.framework/Resources/bin/R CMD INSTALL RBM StartedAt: 2025-11-21 15:11:27 -0500 (Fri, 21 Nov 2025) EndedAt: 2025-11-21 15:11:57 -0500 (Fri, 21 Nov 2025) EllapsedTime: 30.0 seconds RetCode: 0 Status: OK