Package: RBM Version: 1.43.0 Command: /Library/Frameworks/R.framework/Resources/bin/R CMD build --keep-empty-dirs --no-resave-data RBM StartedAt: 2025-11-20 18:20:20 -0500 (Thu, 20 Nov 2025) EndedAt: 2025-11-20 18:20:59 -0500 (Thu, 20 Nov 2025) EllapsedTime: 38.9 seconds RetCode: 0 Status: OK PackageFile: RBM_1.43.0.tar.gz PackageFileSize: 370.8 KiB