Package: RBM Version: 1.41.0 Command: /Library/Frameworks/R.framework/Resources/bin/R CMD INSTALL RBM StartedAt: 2025-10-19 15:01:37 -0400 (Sun, 19 Oct 2025) EndedAt: 2025-10-19 15:01:44 -0400 (Sun, 19 Oct 2025) EllapsedTime: 6.2 seconds RetCode: 0 Status: OK