Package: RBM Version: 1.41.0 Command: /Library/Frameworks/R.framework/Resources/bin/R CMD build --keep-empty-dirs --no-resave-data RBM StartedAt: 2025-10-17 17:28:50 -0400 (Fri, 17 Oct 2025) EndedAt: 2025-10-17 17:29:03 -0400 (Fri, 17 Oct 2025) EllapsedTime: 13.1 seconds RetCode: 0 Status: OK PackageFile: RBM_1.41.0.tar.gz PackageFileSize: 372 KiB