Package: RBGL Version: 1.87.0 Command: /home/biocbuild/bbs-3.23-bioc/R/bin/R CMD INSTALL RBGL StartedAt: 2025-11-02 15:18:23 -0500 (Sun, 02 Nov 2025) EndedAt: 2025-11-02 15:20:10 -0500 (Sun, 02 Nov 2025) EllapsedTime: 107.2 seconds RetCode: 0 Status: OK