Package: RBGL Version: 1.87.0 Command: /home/biocbuild/bbs-3.23-bioc/R/bin/R CMD build --keep-empty-dirs --no-resave-data RBGL StartedAt: 2025-11-03 19:21:45 -0500 (Mon, 03 Nov 2025) EndedAt: 2025-11-03 19:23:44 -0500 (Mon, 03 Nov 2025) EllapsedTime: 119.1 seconds RetCode: 0 Status: OK PackageFile: RBGL_1.87.0.tar.gz PackageFileSize: 3.84 MiB