Package: RBGL Version: 1.85.0 Command: /Library/Frameworks/R.framework/Resources/bin/R CMD INSTALL RBGL StartedAt: 2025-10-03 15:13:32 -0400 (Fri, 03 Oct 2025) EndedAt: 2025-10-03 15:15:20 -0400 (Fri, 03 Oct 2025) EllapsedTime: 108.1 seconds RetCode: 0 Status: OK