Package: RBGL Version: 1.85.0 Command: /Library/Frameworks/R.framework/Resources/bin/R CMD build --keep-empty-dirs --no-resave-data RBGL StartedAt: 2025-10-03 18:37:14 -0400 (Fri, 03 Oct 2025) EndedAt: 2025-10-03 18:39:27 -0400 (Fri, 03 Oct 2025) EllapsedTime: 132.8 seconds RetCode: 0 Status: OK PackageFile: RBGL_1.85.0.tar.gz PackageFileSize: 2.964 MiB