Package: RBGL Version: 1.85.0 Command: rm -rf RBGL.buildbin-libdir && mkdir RBGL.buildbin-libdir && /Users/biocbuild/BBS/utils/build-universal.sh RBGL_1.85.0.tar.gz /Library/Frameworks/R.framework/Resources/bin/R RBGL.buildbin-libdir StartedAt: 2025-10-04 02:23:34 -0400 (Sat, 04 Oct 2025) EndedAt: 2025-10-04 02:25:39 -0400 (Sat, 04 Oct 2025) EllapsedTime: 125.0 seconds RetCode: 0 Status: OK PackageFile: RBGL_1.85.0.tgz PackageFileSize: 3.441 MiB