Back to Build/check report for BioC 3.23:   simplified   long
ABCDEFGHIJKLMNOPQ[R]STUVWXYZ

This page was generated on 2025-10-31 08:34 -0400 (Fri, 31 Oct 2025).

HostnameOSArch (*)R versionInstalled pkgs
nebbiolo1Linux (Ubuntu 24.04.3 LTS)x86_64R Under development (unstable) (2025-10-20 r88955) -- "Unsuffered Consequences" 4428
Click on any hostname to see more info about the system (e.g. compilers)      (*) as reported by 'uname -p', except on Windows and Mac OS X

All results for package RBGL


To the developers/maintainers of the RBGL package:
- Allow up to 24 hours (and sometimes 48 hours) for your latest push to git@git.bioconductor.org:packages/RBGL.git to reflect on this report. See Troubleshooting Build Report for more information.
- Use the following Renviron settings to reproduce errors and warnings.
- If 'R CMD check' started to fail recently on the Linux builder(s) over a missing dependency, add the missing dependency to 'Suggests:' in your DESCRIPTION file. See Renviron.bioc for more information.

raw results

Package 1690/2321HostnameOS / ArchINSTALLBUILDCHECKBUILD BIN
RBGL 1.87.0  (landing page)
Bioconductor Package Maintainer
Snapshot Date: 2025-10-30 13:40 -0400 (Thu, 30 Oct 2025)
git_url: https://git.bioconductor.org/packages/RBGL
git_branch: devel
git_last_commit: 9b0a331
git_last_commit_date: 2025-10-29 09:54:01 -0400 (Wed, 29 Oct 2025)
nebbiolo1Linux (Ubuntu 24.04.3 LTS) / x86_64  OK    OK    WARNINGS  YES



Results for Bioconductor software packages that depend directly on package RBGL

QUICK STATSOS / ArchINSTALLBUILDCHECKBUILD BIN
nebbiolo1Linux (Ubuntu 24.04.3 LTS) / x86_64
0418
0913
0157
Package 1/22HostnameOS / ArchINSTALLBUILDCHECKBUILD BIN
apComplex 2.77.0  (landing page)
Denise Scholtens
git_last_commit: c10f18a
git_last_commit_date: 2025-10-29 09:55:56 -0400
nebbiolo1Linux (Ubuntu 24.04.3 LTS) / x86_64  ERROR    ERROR  skipped
Package 2/22HostnameOS / ArchINSTALLBUILDCHECKBUILD BIN
BiocPkgTools 1.29.0  (landing page)
Sean Davis
git_last_commit: a2f816c
git_last_commit_date: 2025-10-29 10:47:30 -0400
nebbiolo1Linux (Ubuntu 24.04.3 LTS) / x86_64  OK    ERROR  skipped
Package 3/22HostnameOS / ArchINSTALLBUILDCHECKBUILD BIN
biocViews 1.79.0  (landing page)
Bioconductor Package Maintainer
git_last_commit: c737240
git_last_commit_date: 2025-10-29 09:57:00 -0400
nebbiolo1Linux (Ubuntu 24.04.3 LTS) / x86_64  OK    OK    OK  YES
Package 4/22HostnameOS / ArchINSTALLBUILDCHECKBUILD BIN
BioNet 1.71.0  (landing page)
Marcus Dittrich
git_last_commit: 9742714
git_last_commit_date: 2025-10-29 10:05:29 -0400
nebbiolo1Linux (Ubuntu 24.04.3 LTS) / x86_64  OK    ERROR  skipped
Package 5/22HostnameOS / ArchINSTALLBUILDCHECKBUILD BIN
CAMERA 1.67.0  (landing page)
Steffen Neumann
git_last_commit: 340928f
git_last_commit_date: 2025-10-29 10:02:23 -0400
nebbiolo1Linux (Ubuntu 24.04.3 LTS) / x86_64  OK    OK    WARNINGS  NO, package depends on 'xcms' which is not available
Package 6/22HostnameOS / ArchINSTALLBUILDCHECKBUILD BIN
Category 2.77.0  (landing page)
Bioconductor Package Maintainer
git_last_commit: 6850286
git_last_commit_date: 2025-10-29 09:56:37 -0400
nebbiolo1Linux (Ubuntu 24.04.3 LTS) / x86_64  OK    ERROR  skipped
Package 7/22HostnameOS / ArchINSTALLBUILDCHECKBUILD BIN
CellNOptR 1.57.0  (landing page)
Attila Gabor
git_last_commit: 1b9d01e
git_last_commit_date: 2025-10-29 10:09:33 -0400
nebbiolo1Linux (Ubuntu 24.04.3 LTS) / x86_64  OK    OK    OK  YES
Package 8/22HostnameOS / ArchINSTALLBUILDCHECKBUILD BIN
ChIPpeakAnno 3.45.0  (landing page)
Jianhong Ou
git_last_commit: 2e00e23
git_last_commit_date: 2025-10-29 10:03:18 -0400
nebbiolo1Linux (Ubuntu 24.04.3 LTS) / x86_64  ERROR    ERROR  skipped
Package 9/22HostnameOS / ArchINSTALLBUILDCHECKBUILD BIN
CHRONOS 1.39.0  (landing page)
Panos Balomenos
git_last_commit: 5dec64b
git_last_commit_date: 2025-10-29 10:32:09 -0400
nebbiolo1Linux (Ubuntu 24.04.3 LTS) / x86_64  OK    OK    OK  NO, package depends on 'biomaRt' which is not available
Package 10/22HostnameOS / ArchINSTALLBUILDCHECKBUILD BIN
CytoML 2.23.0  (landing page)
Mike Jiang
git_last_commit: 8f95dab
git_last_commit_date: 2025-10-29 10:33:02 -0400
nebbiolo1Linux (Ubuntu 24.04.3 LTS) / x86_64  OK    OK    WARNINGS  NO, package depends on 'flowWorkspace' which is not available
Package 11/22HostnameOS / ArchINSTALLBUILDCHECKBUILD BIN
DEGraph 1.63.0  (landing page)
Laurent Jacob
git_last_commit: 71c129b
git_last_commit_date: 2025-10-29 10:06:12 -0400
nebbiolo1Linux (Ubuntu 24.04.3 LTS) / x86_64  OK    OK    OK  NO, package depends on 'KEGGgraph' which is not available
Package 12/22HostnameOS / ArchINSTALLBUILDCHECKBUILD BIN
DEsubs 1.37.0  (landing page)
Aristidis G. Vrahatis , Panos Balomenos
git_last_commit: 795ef9b
git_last_commit_date: 2025-10-29 10:34:42 -0400
nebbiolo1Linux (Ubuntu 24.04.3 LTS) / x86_64  OK    OK    WARNINGS  NO, package depends on 'DESeq2' which is not available
Package 13/22HostnameOS / ArchINSTALLBUILDCHECKBUILD BIN
EventPointer 3.19.0  (landing page)
Juan A. Ferrer-Bonsoms
git_last_commit: ab73f34
git_last_commit_date: 2025-10-29 10:37:08 -0400
nebbiolo1Linux (Ubuntu 24.04.3 LTS) / x86_64  ERROR    ERROR  skipped
Package 14/22HostnameOS / ArchINSTALLBUILDCHECKBUILD BIN
fgga 1.19.0  (landing page)
Flavio Spetale
git_last_commit: dbdfaea
git_last_commit_date: 2025-10-29 11:09:03 -0400
nebbiolo1Linux (Ubuntu 24.04.3 LTS) / x86_64  OK    OK    OK  YES
Package 15/22HostnameOS / ArchINSTALLBUILDCHECKBUILD BIN
flowWorkspace 4.23.0  (landing page)
Greg Finak , Mike Jiang
git_last_commit: 824996d
git_last_commit_date: 2025-10-29 10:07:43 -0400
nebbiolo1Linux (Ubuntu 24.04.3 LTS) / x86_64  OK    OK    WARNINGS  NO, package depends on 'DelayedArray' which is not available
Package 16/22HostnameOS / ArchINSTALLBUILDCHECKBUILD BIN
GenomicInteractionNodes 1.15.0  (landing page)
Jianhong Ou
git_last_commit: 8ee0b28
git_last_commit_date: 2025-10-29 11:16:22 -0400
nebbiolo1Linux (Ubuntu 24.04.3 LTS) / x86_64  OK    OK    OK  NO, package depends on 'AnnotationDbi' which is not available
Package 17/22HostnameOS / ArchINSTALLBUILDCHECKBUILD BIN
GOstats 2.77.0  (landing page)
Bioconductor Package Maintainer
git_last_commit: d09aa16
git_last_commit_date: 2025-10-29 09:55:01 -0400
nebbiolo1Linux (Ubuntu 24.04.3 LTS) / x86_64  OK    ERROR  skipped
Package 18/22HostnameOS / ArchINSTALLBUILDCHECKBUILD BIN
NCIgraph 1.59.0  (landing page)
Laurent Jacob
git_last_commit: 5a91ea4
git_last_commit_date: 2025-10-29 10:07:17 -0400
nebbiolo1Linux (Ubuntu 24.04.3 LTS) / x86_64  OK    OK    OK  NO, package depends on 'KEGGgraph' which is not available
Package 19/22HostnameOS / ArchINSTALLBUILDCHECKBUILD BIN
ontoProc 2.5.0  (landing page)
Vincent Carey
git_last_commit: a09f239
git_last_commit_date: 2025-10-29 19:20:08 -0400
nebbiolo1Linux (Ubuntu 24.04.3 LTS) / x86_64  OK    OK    ERROR  
Package 20/22HostnameOS / ArchINSTALLBUILDCHECKBUILD BIN
openCyto 2.23.0  (landing page)
Mike Jiang
git_last_commit: 11bf474
git_last_commit_date: 2025-10-29 10:16:53 -0400
nebbiolo1Linux (Ubuntu 24.04.3 LTS) / x86_64  OK    OK    WARNINGS  NO, package depends on 'flowWorkspace' which is not available
Package 21/22HostnameOS / ArchINSTALLBUILDCHECKBUILD BIN
OrganismDbi 1.53.0  (landing page)
Bioconductor Package Maintainer
git_last_commit: bc1c6fc
git_last_commit_date: 2025-10-29 10:12:00 -0400
nebbiolo1Linux (Ubuntu 24.04.3 LTS) / x86_64  ERROR    ERROR  skipped
Package 22/22HostnameOS / ArchINSTALLBUILDCHECKBUILD BIN
VariantFiltering 1.47.0  (landing page)
Robert Castelo
git_last_commit: 270d88d
git_last_commit_date: 2025-10-29 10:19:08 -0400
nebbiolo1Linux (Ubuntu 24.04.3 LTS) / x86_64  OK    ERROR  skipped