Package: RAREsim Version: 1.13.0 Command: /home/biocbuild/bbs-3.22-bioc/R/bin/R CMD check --install=check:RAREsim.install-out.txt --library=/home/biocbuild/bbs-3.22-bioc/R/site-library --timings RAREsim_1.13.0.tar.gz StartedAt: 2025-10-17 04:43:58 -0400 (Fri, 17 Oct 2025) EndedAt: 2025-10-17 04:44:18 -0400 (Fri, 17 Oct 2025) EllapsedTime: 20.0 seconds RetCode: 0 Status: OK CheckDir: RAREsim.Rcheck Warnings: 0