Package: RAREsim Version: 1.15.0 Command: /home/biocbuild/bbs-3.23-bioc/R/bin/R CMD INSTALL RAREsim StartedAt: 2025-11-03 15:03:34 -0500 (Mon, 03 Nov 2025) EndedAt: 2025-11-03 15:03:48 -0500 (Mon, 03 Nov 2025) EllapsedTime: 14.0 seconds RetCode: 0 Status: OK