Package: RAREsim Version: 1.15.0 Command: /home/biocbuild/bbs-3.23-bioc/R/bin/R CMD build --keep-empty-dirs --no-resave-data RAREsim StartedAt: 2025-11-03 19:20:49 -0500 (Mon, 03 Nov 2025) EndedAt: 2025-11-03 19:20:56 -0500 (Mon, 03 Nov 2025) EllapsedTime: 7.0 seconds RetCode: 0 Status: OK PackageFile: RAREsim_1.15.0.tar.gz PackageFileSize: 323.7 KiB