Package: RAREsim Version: 1.13.0 Command: /Library/Frameworks/R.framework/Resources/bin/R CMD build --keep-empty-dirs --no-resave-data RAREsim StartedAt: 2025-09-29 18:23:32 -0400 (Mon, 29 Sep 2025) EndedAt: 2025-09-29 18:23:43 -0400 (Mon, 29 Sep 2025) EllapsedTime: 11.4 seconds RetCode: 0 Status: OK PackageFile: RAREsim_1.13.0.tar.gz PackageFileSize: 301 KiB