Package: RAIDS Version: 1.9.0 Command: /home/biocbuild/bbs-3.23-bioc/R/bin/R CMD INSTALL RAIDS StartedAt: 2025-11-07 15:40:44 -0500 (Fri, 07 Nov 2025) EndedAt: 2025-11-07 15:41:38 -0500 (Fri, 07 Nov 2025) EllapsedTime: 54.2 seconds RetCode: 0 Status: OK