Package: RAIDS Version: 1.9.0 Command: /home/biocbuild/bbs-3.23-bioc/R/bin/R CMD build --keep-empty-dirs --no-resave-data RAIDS StartedAt: 2025-11-07 19:24:42 -0500 (Fri, 07 Nov 2025) EndedAt: 2025-11-07 19:26:44 -0500 (Fri, 07 Nov 2025) EllapsedTime: 122.1 seconds RetCode: 0 Status: OK PackageFile: RAIDS_1.9.0.tar.gz PackageFileSize: 3.391 MiB