Package: RAIDS Version: 1.7.3 Command: /Library/Frameworks/R.framework/Resources/bin/R CMD INSTALL RAIDS StartedAt: 2025-10-13 15:21:54 -0400 (Mon, 13 Oct 2025) EndedAt: 2025-10-13 15:22:16 -0400 (Mon, 13 Oct 2025) EllapsedTime: 22.9 seconds RetCode: 0 Status: OK