Package: RAIDS Version: 1.7.3 Command: /Library/Frameworks/R.framework/Resources/bin/R CMD build --keep-empty-dirs --no-resave-data RAIDS StartedAt: 2025-10-13 17:26:34 -0400 (Mon, 13 Oct 2025) EndedAt: 2025-10-13 17:27:25 -0400 (Mon, 13 Oct 2025) EllapsedTime: 51.6 seconds RetCode: 0 Status: OK PackageFile: RAIDS_1.7.3.tar.gz PackageFileSize: 3.425 MiB