Package: R4RNA Version: 1.37.0 Command: /home/biocbuild/bbs-3.22-bioc/R/bin/R CMD check --install=check:R4RNA.install-out.txt --library=/home/biocbuild/bbs-3.22-bioc/R/site-library --timings R4RNA_1.37.0.tar.gz StartedAt: 2025-10-25 03:07:16 -0400 (Sat, 25 Oct 2025) EndedAt: 2025-10-25 03:08:32 -0400 (Sat, 25 Oct 2025) EllapsedTime: 76.1 seconds RetCode: 0 Status: OK CheckDir: R4RNA.Rcheck Warnings: 0