Package: R4RNA Version: 1.39.0 Command: /home/biocbuild/bbs-3.23-bioc/R/bin/R CMD build --keep-empty-dirs --no-resave-data R4RNA StartedAt: 2025-11-04 19:22:30 -0500 (Tue, 04 Nov 2025) EndedAt: 2025-11-04 19:22:47 -0500 (Tue, 04 Nov 2025) EllapsedTime: 17.0 seconds RetCode: 0 Status: OK PackageFile: R4RNA_1.39.0.tar.gz PackageFileSize: 906.3 KiB