Package: R4RNA Version: 1.37.0 Command: /Library/Frameworks/R.framework/Resources/bin/R CMD INSTALL R4RNA StartedAt: 2025-10-03 15:27:09 -0400 (Fri, 03 Oct 2025) EndedAt: 2025-10-03 15:27:23 -0400 (Fri, 03 Oct 2025) EllapsedTime: 14.7 seconds RetCode: 0 Status: OK