Package: R4RNA Version: 1.37.0 Command: /Library/Frameworks/R.framework/Resources/bin/R CMD build --keep-empty-dirs --no-resave-data R4RNA StartedAt: 2025-10-03 18:36:08 -0400 (Fri, 03 Oct 2025) EndedAt: 2025-10-03 18:36:33 -0400 (Fri, 03 Oct 2025) EllapsedTime: 25.2 seconds RetCode: 0 Status: OK PackageFile: R4RNA_1.37.0.tar.gz PackageFileSize: 903.8 KiB