Package: R3CPET Version: 1.43.0 Command: /home/biocbuild/bbs-3.23-bioc/R/bin/R CMD INSTALL R3CPET StartedAt: 2025-11-04 15:44:21 -0500 (Tue, 04 Nov 2025) EndedAt: 2025-11-04 15:45:33 -0500 (Tue, 04 Nov 2025) EllapsedTime: 71.4 seconds RetCode: 0 Status: OK