Package: R3CPET Version: 1.43.0 Maintainer: Mohamed Nadhir Djekidel MaintainerEmail: djek.nad at gmail.com git_url: https://git.bioconductor.org/packages/R3CPET git_branch: devel git_last_commit: 07a90d9 git_last_commit_date: 2025-10-29 10:25:45 -0400 (Wed, 29 Oct 2025)