Package: QuaternaryProd Version: 1.45.0 Command: /home/biocbuild/bbs-3.23-bioc/R/bin/R CMD check --install=check:QuaternaryProd.install-out.txt --library=/home/biocbuild/bbs-3.23-bioc/R/site-library --timings QuaternaryProd_1.45.0.tar.gz StartedAt: 2025-11-01 02:36:39 -0400 (Sat, 01 Nov 2025) EndedAt: 2025-11-01 02:37:30 -0400 (Sat, 01 Nov 2025) EllapsedTime: 50.1 seconds RetCode: 0 Status: OK CheckDir: QuaternaryProd.Rcheck Warnings: 0