Package: QuaternaryProd Version: 1.43.0 Command: /Library/Frameworks/R.framework/Resources/bin/R CMD check --install=check:QuaternaryProd.install-out.txt --library=/Library/Frameworks/R.framework/Resources/library --no-vignettes --timings QuaternaryProd_1.43.0.tar.gz StartedAt: 2025-10-16 21:29:48 -0400 (Thu, 16 Oct 2025) EndedAt: 2025-10-16 21:30:12 -0400 (Thu, 16 Oct 2025) EllapsedTime: 24.3 seconds RetCode: 0 Status: OK CheckDir: QuaternaryProd.Rcheck Warnings: 0